BEGIN:VCALENDAR
VERSION:2.0
PRODID:-//ExpressionEngine Easy iCalendar plugin//NONSGML v2.0.1//EN
X-WR-TIMEZONE:America/New_York
X-WR-CALNAME:Upcoming Auctions
BEGIN:VEVENT
UID:92434
DTSTAMP:20221217T104500
DTSTART:20221217T104500
DTEND:20221217T114500
SUMMARY:4925 Old Kentucky Road Absolute Auction\, Morristown TN -  5+
 /- Acres/Plus House
LOCATION:4925 OLD KENTUCKY ROAD \, MORRISTOWN \, TN 37814\, US
DESCRIPTION:Call for an appointment to view property. Inspection Day for
  Auction is Friday\, December 16th\, 10am-3pm (ET). Auction Da
 y\, December 17th at 11:00 am (ET)
URL:https://www.proteam-realestate.com/auctions/detail/bw92434
SEQUENCE:1
END:VEVENT
END:VCALENDAR