BEGIN:VCALENDAR
VERSION:2.0
PRODID:-//ExpressionEngine Easy iCalendar plugin//NONSGML v2.0.1//EN
X-WR-TIMEZONE:America/New_York
X-WR-CALNAME:Upcoming Auctions
BEGIN:VEVENT
UID:118101
DTSTAMP:20240404T084500
DTSTART:20240404T084500
DTEND:20240404T094500
SUMMARY:ABSOLUTE REAL ESTATE AUCTION - THURSDAY APRIL 4TH AT 9AM
LOCATION:1733 Garden Village Dr\, White Pine\, TN 37890\, US
DESCRIPTION:Absolute auction of 436 E Hillcrest Dr. Morristown\, TN 378
 13. 3 beds\, 1 bath\, 1\,096 Square Feet\, +/- 0.27 Acres. This 
 beautiful property is being sold as-is where is at absolute 
 auction on April 4th at 9am at 1733 Garden Village Drive ins
 ide ProTeam's Annex building. 
URL:https://www.proteam-realestate.com/auctions/detail/bw118101
SEQUENCE:1
END:VEVENT
END:VCALENDAR